BEGIN:VCALENDAR
VERSION:2.0
PRODID:-//PYVOBJECT//NONSGML Version 0.9.9//EN
BEGIN:VTIMEZONE
TZID:US/Pacific
BEGIN:STANDARD
DTSTART:20001029T020000
RRULE:FREQ=YEARLY;BYDAY=-1SU;BYMONTH=10;UNTIL=20061029T090000Z
TZNAME:PST
TZOFFSETFROM:-0700
TZOFFSETTO:-0800
END:STANDARD
BEGIN:STANDARD
DTSTART:20071104T020000
RRULE:FREQ=YEARLY;BYDAY=1SU;BYMONTH=11
TZNAME:PST
TZOFFSETFROM:-0700
TZOFFSETTO:-0800
END:STANDARD
BEGIN:DAYLIGHT
DTSTART:20000402T020000
RRULE:FREQ=YEARLY;BYDAY=1SU;BYMONTH=4;UNTIL=20060402T100000Z
TZNAME:PDT
TZOFFSETFROM:-0800
TZOFFSETTO:-0700
END:DAYLIGHT
BEGIN:DAYLIGHT
DTSTART:20070311T020000
RRULE:FREQ=YEARLY;BYDAY=2SU;BYMONTH=3
TZNAME:PDT
TZOFFSETFROM:-0800
TZOFFSETTO:-0700
END:DAYLIGHT
END:VTIMEZONE
BEGIN:VEVENT
UID:20260421T095351Z - 69944@7df23ecaf2d5
DTSTART;TZID=US/Pacific:20241109T164000
DTEND;TZID=US/Pacific:20241109T183000
DESCRIPTION:Intellectual Disabilities (Tootsie Roll) Drive. Help needed at 
 St. Thomas More.\n\nhttps://www.kofc2431.org/events/672c52556ca5015ecb2af2
 36
DTSTAMP:20260421T095351Z
LOCATION:St. Thomas More Catholic Parish\, Alhambra\, CA\, USA
SUMMARY:Tootsie Roll Drive (Saturday)
URL:
END:VEVENT
END:VCALENDAR
