BEGIN:VCALENDAR
VERSION:2.0
PRODID:-//PYVOBJECT//NONSGML Version 0.9.9//EN
BEGIN:VTIMEZONE
TZID:US/Pacific
BEGIN:STANDARD
DTSTART:20001029T020000
RRULE:FREQ=YEARLY;BYDAY=-1SU;BYMONTH=10;UNTIL=20061029T090000Z
TZNAME:PST
TZOFFSETFROM:-0700
TZOFFSETTO:-0800
END:STANDARD
BEGIN:STANDARD
DTSTART:20071104T020000
RRULE:FREQ=YEARLY;BYDAY=1SU;BYMONTH=11
TZNAME:PST
TZOFFSETFROM:-0700
TZOFFSETTO:-0800
END:STANDARD
BEGIN:DAYLIGHT
DTSTART:20000402T020000
RRULE:FREQ=YEARLY;BYDAY=1SU;BYMONTH=4;UNTIL=20060402T100000Z
TZNAME:PDT
TZOFFSETFROM:-0800
TZOFFSETTO:-0700
END:DAYLIGHT
BEGIN:DAYLIGHT
DTSTART:20070311T020000
RRULE:FREQ=YEARLY;BYDAY=2SU;BYMONTH=3
TZNAME:PDT
TZOFFSETFROM:-0800
TZOFFSETTO:-0700
END:DAYLIGHT
END:VTIMEZONE
BEGIN:VEVENT
UID:20260421T101031Z - 66476@7df23ecaf2d5
DTSTART;TZID=US/Pacific:20241102T090000
DTEND;TZID=US/Pacific:20241102T160000
DESCRIPTION:An enjoyable family event hosted by the Carmelite Sisters that 
 we’ll help with.\n\nhttps://www.kofc2431.org/events/67257c9e08cb1cceb95b
 1a42
DTSTAMP:20260421T101031Z
LOCATION:Sacred Heart Retreat House\, East Alhambra Road\, Alhambra\, CA\, 
 USA
SUMMARY:Carmelite Family Fall Festival
URL:
END:VEVENT
END:VCALENDAR
